BEGIN:VCALENDAR
VERSION:2.0
PRODID:-//Kaymartco - ECPv6.15.20//NONSGML v1.0//EN
CALSCALE:GREGORIAN
METHOD:PUBLISH
X-WR-CALNAME:Kaymartco
X-ORIGINAL-URL:https://kaymartco.com
X-WR-CALDESC:Events for Kaymartco
REFRESH-INTERVAL;VALUE=DURATION:PT1H
X-Robots-Tag:noindex
X-PUBLISHED-TTL:PT1H
BEGIN:VTIMEZONE
TZID:America/Los_Angeles
BEGIN:DAYLIGHT
TZOFFSETFROM:-0800
TZOFFSETTO:-0700
TZNAME:PDT
DTSTART:20230312T100000
END:DAYLIGHT
BEGIN:STANDARD
TZOFFSETFROM:-0700
TZOFFSETTO:-0800
TZNAME:PST
DTSTART:20231105T090000
END:STANDARD
BEGIN:DAYLIGHT
TZOFFSETFROM:-0800
TZOFFSETTO:-0700
TZNAME:PDT
DTSTART:20240310T100000
END:DAYLIGHT
BEGIN:STANDARD
TZOFFSETFROM:-0700
TZOFFSETTO:-0800
TZNAME:PST
DTSTART:20241103T090000
END:STANDARD
BEGIN:DAYLIGHT
TZOFFSETFROM:-0800
TZOFFSETTO:-0700
TZNAME:PDT
DTSTART:20250309T100000
END:DAYLIGHT
BEGIN:STANDARD
TZOFFSETFROM:-0700
TZOFFSETTO:-0800
TZNAME:PST
DTSTART:20251102T090000
END:STANDARD
END:VTIMEZONE
BEGIN:VEVENT
DTSTART;TZID=America/Los_Angeles:20240515T000000
DTEND;TZID=America/Los_Angeles:20240515T000000
DTSTAMP:20260424T165841
CREATED:20220405T021416Z
LAST-MODIFIED:20231123T083843Z
UID:18872-1715731200-1715731200@kaymartco.com
SUMMARY:St. Johnbury VT Farmers Market
DESCRIPTION:Every Wednesday Until 23 October\n\n\n\nFresh Produce\, food\, handmade items\, crafts\, fresh bread and dairy products.  Come get some air and exercise!
URL:https://kaymartco.com/event/st-johnsbury-vt-farmers-market/
CATEGORIES:Vermont
ATTACH;FMTTYPE=image/webp:https://kaymartco.com/wp-content/uploads/2022/04/st-johnsbury.webp
END:VEVENT
END:VCALENDAR